BEGIN:VCALENDAR
VERSION:2.0
PRODID:-//Archipelago Books - ECPv6.15.18//NONSGML v1.0//EN
CALSCALE:GREGORIAN
METHOD:PUBLISH
X-WR-CALNAME:Archipelago Books
X-ORIGINAL-URL:https://archipelagobooks.org
X-WR-CALDESC:Events for Archipelago Books
REFRESH-INTERVAL;VALUE=DURATION:PT1H
X-Robots-Tag:noindex
X-PUBLISHED-TTL:PT1H
BEGIN:VTIMEZONE
TZID:America/New_York
BEGIN:DAYLIGHT
TZOFFSETFROM:-0500
TZOFFSETTO:-0400
TZNAME:EDT
DTSTART:20170312T070000
END:DAYLIGHT
BEGIN:STANDARD
TZOFFSETFROM:-0400
TZOFFSETTO:-0500
TZNAME:EST
DTSTART:20171105T060000
END:STANDARD
BEGIN:DAYLIGHT
TZOFFSETFROM:-0500
TZOFFSETTO:-0400
TZNAME:EDT
DTSTART:20180311T070000
END:DAYLIGHT
BEGIN:STANDARD
TZOFFSETFROM:-0400
TZOFFSETTO:-0500
TZNAME:EST
DTSTART:20181104T060000
END:STANDARD
BEGIN:DAYLIGHT
TZOFFSETFROM:-0500
TZOFFSETTO:-0400
TZNAME:EDT
DTSTART:20190310T070000
END:DAYLIGHT
BEGIN:STANDARD
TZOFFSETFROM:-0400
TZOFFSETTO:-0500
TZNAME:EST
DTSTART:20191103T060000
END:STANDARD
END:VTIMEZONE
BEGIN:VEVENT
DTSTART;TZID=America/New_York:20180927T190000
DTEND;TZID=America/New_York:20180927T220000
DTSTAMP:20260421T034421
CREATED:20180705T134636Z
LAST-MODIFIED:20180920T165540Z
UID:22833-1538074800-1538085600@archipelagobooks.org
SUMMARY:Fall Fête 2018
DESCRIPTION:We invite you all to join us on Thursday\, September 27th\, at the Wythe Hotel. There will be hors d’oeuvres\, an open bar\, and live kora music performed by Malang Jobarteh. By purchasing a ticket\, you will be supporting our mission to publish extraordinary literature from around the world. If you cannot make it\, please do consider sponsoring a writer\, translator\, bookseller\, book critic\, or armchair traveler. \n  \n  \nPurchase tickets online or send a check made out to Archipelago Books: 232 Third Street #A111\, Brooklyn\, NY 11215 \n \nWe’re delighted to thank our generous sponsors: Cooperstown Distillery\, Rosenthal Wine Merchant\, Wythe Hotel\, Lagunitas Brewing Company\, Wasafiri\, The Greene Grape\,  Four & Twenty Blackbirds Pie\, Stem\, NunuChocolates\, Rose Water\, Library Hotel\, Stone Park Cafe\, Ugly Duckling Presse\, and The New York Review of Books \nAnd many thanks also to our 2018 committee: Susan Bell\, Miriam Bridenne\, Jessie Chaffee\, David Dean\, Nicholas During\, Karen Emmerich\, Edwin Frank\, Hal Hlavinka\, Violane Huisman\, Tess Lewis\, Mary Ann Newman\, Nathan Rostron\, Zohra Saed\, Ben Samuel\, Rob Spillman\, Declan Spring\, Kendall Storey\, Lena Valencia\, William Wadsworth
URL:https://archipelagobooks.org/event/fall-fete-18/
LOCATION:Wythe Hotel\, 80 Wythe Avenue\, Brooklyn \, NY\, 11249\, United States
GEO:40.7219453;-73.9581898
X-APPLE-STRUCTURED-LOCATION;VALUE=URI;X-ADDRESS=Wythe Hotel 80 Wythe Avenue Brooklyn  NY 11249 United States;X-APPLE-RADIUS=500;X-TITLE=80 Wythe Avenue:geo:-73.9581898,40.7219453
END:VEVENT
END:VCALENDAR